BEGIN:VCALENDAR
VERSION:2.0
PRODID:-//London Claims Association - ECPv6.15.20//NONSGML v1.0//EN
CALSCALE:GREGORIAN
METHOD:PUBLISH
X-WR-CALNAME:London Claims Association
X-ORIGINAL-URL:https://londonclaimsassociation.com
X-WR-CALDESC:Events for London Claims Association
REFRESH-INTERVAL;VALUE=DURATION:PT1H
X-Robots-Tag:noindex
X-PUBLISHED-TTL:PT1H
BEGIN:VTIMEZONE
TZID:America/Toronto
BEGIN:DAYLIGHT
TZOFFSETFROM:-0500
TZOFFSETTO:-0400
TZNAME:EDT
DTSTART:20240310T070000
END:DAYLIGHT
BEGIN:STANDARD
TZOFFSETFROM:-0400
TZOFFSETTO:-0500
TZNAME:EST
DTSTART:20241103T060000
END:STANDARD
BEGIN:DAYLIGHT
TZOFFSETFROM:-0500
TZOFFSETTO:-0400
TZNAME:EDT
DTSTART:20250309T070000
END:DAYLIGHT
BEGIN:STANDARD
TZOFFSETFROM:-0400
TZOFFSETTO:-0500
TZNAME:EST
DTSTART:20251102T060000
END:STANDARD
BEGIN:DAYLIGHT
TZOFFSETFROM:-0500
TZOFFSETTO:-0400
TZNAME:EDT
DTSTART:20260308T070000
END:DAYLIGHT
BEGIN:STANDARD
TZOFFSETFROM:-0400
TZOFFSETTO:-0500
TZNAME:EST
DTSTART:20261101T060000
END:STANDARD
END:VTIMEZONE
BEGIN:VEVENT
DTSTART;TZID=America/Toronto:20250226T080000
DTEND;TZID=America/Toronto:20250226T160000
DTSTAMP:20260420T053935
CREATED:20241003T140014Z
LAST-MODIFIED:20250210T163502Z
UID:3653-1740556800-1740585600@londonclaimsassociation.com
SUMMARY:ANNUAL CURLING FUNSPIEL
DESCRIPTION:The day will begin with registration and a light breakfast at 8:00.  Draw 1 begins at 8:30 and draw 2 at 9:30 with lunch at 11:30.  Our day wraps up with cocoa & cookies beginning at 3:30. \n  \nEnjoy cards\, games\, trivia  and snacks with your team in between draws. \n  \nYou will need broom (available at the club)\, layered\, comfortable clothing and CLEAN shoes (sand\, dirt or debris on the bottom of your shoes will damage the ice surface).  PLEASE try and register a team of 4 if you are able\, single entries will be placed on a spare list to fill in vacant spots as they become available. \n  \nREGISTRATION CLOSES FEBRUARY 19th @ 5:00pm \n  \nSPONSORSHIP OPPORTUNITIES \n\n  \nHope to see you all there!!
URL:https://londonclaimsassociation.com/event/annual-curling-funspiel/
LOCATION:Highland Community Curling Club\, 1922 Highland Heights\, London\, Ontario\, N6C 2T4\, Canada
ATTACH;FMTTYPE=image/jpeg:https://londonclaimsassociation.com/wp-content/uploads/2023/11/CURLING.jpg
ORGANIZER;CN="Warren Hamer":MAILTO:whamer@larrek.com
END:VEVENT
END:VCALENDAR