BEGIN:VCALENDAR
VERSION:2.0
PRODID:-//London Claims Association - ECPv6.15.20//NONSGML v1.0//EN
CALSCALE:GREGORIAN
METHOD:PUBLISH
X-ORIGINAL-URL:https://londonclaimsassociation.com
X-WR-CALDESC:Events for London Claims Association
REFRESH-INTERVAL;VALUE=DURATION:PT1H
X-Robots-Tag:noindex
X-PUBLISHED-TTL:PT1H
BEGIN:VTIMEZONE
TZID:America/Toronto
BEGIN:DAYLIGHT
TZOFFSETFROM:-0500
TZOFFSETTO:-0400
TZNAME:EDT
DTSTART:20250309T070000
END:DAYLIGHT
BEGIN:STANDARD
TZOFFSETFROM:-0400
TZOFFSETTO:-0500
TZNAME:EST
DTSTART:20251102T060000
END:STANDARD
BEGIN:DAYLIGHT
TZOFFSETFROM:-0500
TZOFFSETTO:-0400
TZNAME:EDT
DTSTART:20260308T070000
END:DAYLIGHT
BEGIN:STANDARD
TZOFFSETFROM:-0400
TZOFFSETTO:-0500
TZNAME:EST
DTSTART:20261101T060000
END:STANDARD
BEGIN:DAYLIGHT
TZOFFSETFROM:-0500
TZOFFSETTO:-0400
TZNAME:EDT
DTSTART:20270314T070000
END:DAYLIGHT
BEGIN:STANDARD
TZOFFSETFROM:-0400
TZOFFSETTO:-0500
TZNAME:EST
DTSTART:20271107T060000
END:STANDARD
BEGIN:DAYLIGHT
TZOFFSETFROM:-0500
TZOFFSETTO:-0400
TZNAME:EDT
DTSTART:20280312T070000
END:DAYLIGHT
BEGIN:STANDARD
TZOFFSETFROM:-0400
TZOFFSETTO:-0500
TZNAME:EST
DTSTART:20281105T060000
END:STANDARD
END:VTIMEZONE
BEGIN:VEVENT
DTSTART;TZID=America/Toronto:20260528T180000
DTEND;TZID=America/Toronto:20260528T230000
DTSTAMP:20260422T175152
CREATED:20260211T193027Z
LAST-MODIFIED:20260417T135939Z
UID:6403-1779991200-1780009200@londonclaimsassociation.com
SUMMARY:TRUNK TRADE SHOW & DRIVE-IN MOVIE NIGHT 2026
DESCRIPTION:ADJUSTERS:\nThis is a FREE event for adjusters!!! \nPLEASE REGISTER PER VEHICLE\, NOT PER PERSON. \nWe have spots for 120 vehicles so register early before spots are gone!!  If you are only coming for the Trunk Trade show and not staying for the movie\, please let us know so that we can offer the spot to another vehicle. \nWe supply every vehicle that enters with: \n\nA loot bag\n$25 concession stand coupon (vendors\, you get a coupon too!!)\n\nMovie – we do not yet know the movie(s).  We hope to hear from the Mustang Drive-In within 3 weeks of the event and will post the movies when known. \nWe estimate that it will get dark around 9:00 PM – so we are asking our insurance professionals to arrive at the theatre around 6:30 pm to park their cars and proceed to the back of the drive-in theatre for the trunk trade show. \n  \nVENDORS: \nWe need the vendors set up between  6:00 –  6:30 pm – vendors set up in the back 3 rows  \nYou are guaranteed a “trunk tradeshow spot” in the back (you CAN NOT CHOSE where you go) – we dictate where you set up.  We are trying to avoid two similar vendors being close together. \nYour name/logo goes up on the big screen (screen branding) before the movie starts.  There is also a DJ playing during the trade show. \nYour trunk is your domain – we envision you supplying a fold up table\, your sign somewhere and your loot is laid out. \nIt is YOUR decision if you want to do a draw for a prize when you collect business cards – this is not mandatory…but let’s be honest\, people like prizes.  😊 Please direct all inquiries to Warren Hamer at whamer@larrek.com
URL:https://londonclaimsassociation.com/event/trunk-trade-show-drive-in-movie-night/
LOCATION:Mustang Drive-In\, 2551 Wilton Grove Road\, London\, Ontario\, Canada
ATTACH;FMTTYPE=image/jpeg:https://londonclaimsassociation.com/wp-content/uploads/2024/04/DRIVE-IN.jpg
ORGANIZER;CN="Warren Hamer":MAILTO:whamer@larrek.com
END:VEVENT
BEGIN:VEVENT
DTSTART;TZID=America/Toronto:20260813T080000
DTEND;TZID=America/Toronto:20260813T170000
DTSTAMP:20260422T175152
CREATED:20260211T194313Z
LAST-MODIFIED:20260219T180329Z
UID:6406-1786608000-1786640400@londonclaimsassociation.com
SUMMARY:LCA GOLF TOURNAMENT 2026
DESCRIPTION:Details to follow shortly!
URL:https://londonclaimsassociation.com/event/lca-golf-tournament/
LOCATION:Fanshawe Golf Course\, 2835 Sunningdale Rd. E.\, London\, Ontario\, N5X 3Y7\, Canada
ATTACH;FMTTYPE=image/jpeg:https://londonclaimsassociation.com/wp-content/uploads/2026/02/GOLF-CART.jpg
ORGANIZER;CN="Moe Maruri":MAILTO:moe.maruri@crawco.ca
END:VEVENT
BEGIN:VEVENT
DTSTART;TZID=America/Toronto:20270224T080000
DTEND;TZID=America/Toronto:20270224T170000
DTSTAMP:20260422T175152
CREATED:20260227T173625Z
LAST-MODIFIED:20260227T173713Z
UID:6444-1803456000-1803488400@londonclaimsassociation.com
SUMMARY:CURLING FUNSPIEL
DESCRIPTION:Details to follow
URL:https://londonclaimsassociation.com/event/curling-funspiel/
LOCATION:Highland Community Curling Club\, 1922 Highland Heights\, London\, Ontario\, N6C 2T4\, Canada
ATTACH;FMTTYPE=image/jpeg:https://londonclaimsassociation.com/wp-content/uploads/2023/11/CURLING.jpg
ORGANIZER;CN="Geoff Edgar-Stubgen":MAILTO:geoff@octagonadjusters.ca
END:VEVENT
END:VCALENDAR